BEGIN:VCALENDAR
VERSION:2.0
PRODID:-//wp-events-plugin.com//7.2.3.1//EN
TZID:Europe/Stockholm
X-WR-TIMEZONE:Europe/Stockholm
BEGIN:VEVENT
UID:335@svehast.se
DTSTART;TZID=Europe/Stockholm;VALUE=DATE:20260425
DTEND;TZID=Europe/Stockholm;VALUE=DATE:20260426
DTSTAMP:20260217T081058Z
URL:https://svehast.se/kalender/avelsvardering-hingstar-wangen-2/
SUMMARY:Avelsvärdering hingstar\, Wången
DESCRIPTION:\nPå lördag\, 25 april\, är det avelsvärdering för hingsta
 r i SH:s regi på Wången\n\n\n \n\n\nDomare: Elisabeth Ljungstorp\, Håk
 an Erlandsson\n
ATTACH;FMTTYPE=image/jpeg:https://svehast.se/wp-content/uploads/2026/02/Ko
 pia-av-SH-40ar-mall-for-inlagg-2026-02-17T090702.607.png
CATEGORIES:Avelsvärdering
END:VEVENT
BEGIN:VTIMEZONE
TZID:Europe/Stockholm
X-LIC-LOCATION:Europe/Stockholm
BEGIN:DAYLIGHT
DTSTART:20260329T030000
TZOFFSETFROM:+0100
TZOFFSETTO:+0200
TZNAME:CEST
END:DAYLIGHT
END:VTIMEZONE
END:VCALENDAR