BEGIN:VCALENDAR
VERSION:2.0
PRODID:-//wp-events-plugin.com//7.2.3.1//EN
TZID:Europe/Stockholm
X-WR-TIMEZONE:Europe/Stockholm
BEGIN:VEVENT
UID:348@svehast.se
DTSTART;TZID=Europe/Stockholm:20260526T183000
DTEND;TZID=Europe/Stockholm:20260526T200000
DTSTAMP:20260415T062046Z
URL:https://svehast.se/kalender/digital-traff-och-uppdatering-for-korprovs
 domare/
SUMMARY:Digital träff och uppdatering för körprovsdomare
DESCRIPTION:Varmt välkomna att delta i en digital träff och uppdatering f
 ör körprovsdomare.\n\n\n 	Tisdag 26 maj\n 	Kl.18.30-ca 20.00\n 	Digitalt
  via Teams\n\nAktuellt från SH\, information och uppdateringar inför år
 ets sommarpremieringssäsong och genomgång av körprov\, uppdraget som k
 örprovsdomare och bedömningar med Tobias Sandahl.
ATTACH;FMTTYPE=image/jpeg:https://svehast.se/wp-content/uploads/2026/04/KB
 I-uppdatering.png
CATEGORIES:Utbildning/kurs
END:VEVENT
BEGIN:VTIMEZONE
TZID:Europe/Stockholm
X-LIC-LOCATION:Europe/Stockholm
BEGIN:DAYLIGHT
DTSTART:20260329T030000
TZOFFSETFROM:+0100
TZOFFSETTO:+0200
TZNAME:CEST
END:DAYLIGHT
END:VTIMEZONE
END:VCALENDAR