BEGIN:VCALENDAR
VERSION:2.0
PRODID:-//wp-events-plugin.com//7.2.3.1//EN
TZID:Europe/Stockholm
X-WR-TIMEZONE:Europe/Stockholm
BEGIN:VEVENT
UID:349@svehast.se
DTSTART;TZID=Europe/Stockholm:20260528T190000
DTEND;TZID=Europe/Stockholm:20260528T203000
DTSTAMP:20260421T081658Z
URL:https://svehast.se/kalender/information-fragestund-om-bruksprov/
SUMMARY:Inför bruksprov på sommarpremiering
DESCRIPTION:\nSka du göra bruksprov: rid- eller körprov i år eller komma
 nde år? Är du nyfiken eller har frågor? Välkomna att delta på förel
 äsningen ”Inför bruksprov på sommarpremiering”.\n\n\n 	Torsdag 28/5
  \n 	Kl.19.00 \n 	Kostnadsfritt och digitalt via Teams.\n\n\n\n\nPassa på
  att lära dig mer om rid- och körproven på sommarpremiering: informatio
 n och regler för ridprov\, vilka platser har körprov och hur går de oli
 ka körproven till\, vad tittar domaren på och vad är viktigt att tänka
  på?\nDela gärna och tipsa andra.\nVarmt välkomna!\n\n\n
ATTACH;FMTTYPE=image/jpeg:https://svehast.se/wp-content/uploads/2026/04/Ko
 pia-av-SH-40ar-mall-for-inlagg-2026-04-21T101131.180.png
CATEGORIES:Utbildning/kurs
END:VEVENT
BEGIN:VTIMEZONE
TZID:Europe/Stockholm
X-LIC-LOCATION:Europe/Stockholm
BEGIN:DAYLIGHT
DTSTART:20260329T030000
TZOFFSETFROM:+0100
TZOFFSETTO:+0200
TZNAME:CEST
END:DAYLIGHT
END:VTIMEZONE
END:VCALENDAR