BEGIN:VCALENDAR
VERSION:2.0
PRODID:-//wp-events-plugin.com//7.2.3.1//EN
TZID:Europe/Stockholm
X-WR-TIMEZONE:Europe/Stockholm
BEGIN:VEVENT
UID:230@svehast.se
DTSTART;TZID=Europe/Stockholm;VALUE=DATE:20240817
DTEND;TZID=Europe/Stockholm;VALUE=DATE:20240818
DTSTAMP:20240126T092307Z
URL:https://svehast.se/kalender/sommarpremiering-bollnas-travbana-2/
SUMMARY:Sommarpremiering Bollnäs travbana
DESCRIPTION:Sommarpremiering anordnas på Bollnäs travbana.\nKatalog över
  anmälda hästar och annan viktig information kommer att publiceras här 
 ca 1\,5 vecka innan visningsdagen: https://svehast.se/bedomningar/sommarp
 remiering/kataloger/
ATTACH;FMTTYPE=image/jpeg:https://svehast.se/wp-content/uploads/2023/05/PI
 CT0952_splogga.jpg
CATEGORIES:Sommarpremiering
END:VEVENT
BEGIN:VTIMEZONE
TZID:Europe/Stockholm
X-LIC-LOCATION:Europe/Stockholm
BEGIN:DAYLIGHT
DTSTART:20240331T030000
TZOFFSETFROM:+0100
TZOFFSETTO:+0200
TZNAME:CEST
END:DAYLIGHT
END:VTIMEZONE
END:VCALENDAR