BEGIN:VCALENDAR
VERSION:2.0
PRODID:-//wp-events-plugin.com//7.2.3.1//EN
TZID:Europe/Stockholm
X-WR-TIMEZONE:Europe/Stockholm
BEGIN:VEVENT
UID:114@svehast.se
DTSTART;TZID=Europe/Stockholm;VALUE=DATE:20220718
DTEND;TZID=Europe/Stockholm;VALUE=DATE:20220719
DTSTAMP:20220209T150142Z
URL:https://svehast.se/kalender/sommarpremiering-i-smalandsstenar/
SUMMARY:Sommarpremiering i Smålandsstenar
DESCRIPTION:Svenska Hästavelsförbundet arrangerar sommarpremiering i Små
 landsstenar\n\nPropositioner och anmälan: Länk
CATEGORIES:Sommarpremiering
END:VEVENT
BEGIN:VTIMEZONE
TZID:Europe/Stockholm
X-LIC-LOCATION:Europe/Stockholm
BEGIN:DAYLIGHT
DTSTART:20220327T030000
TZOFFSETFROM:+0100
TZOFFSETTO:+0200
TZNAME:CEST
END:DAYLIGHT
END:VTIMEZONE
END:VCALENDAR