BEGIN:VCALENDAR
VERSION:2.0
PRODID:-//wp-events-plugin.com//7.2.3.1//EN
TZID:Europe/Stockholm
X-WR-TIMEZONE:Europe/Stockholm
BEGIN:VEVENT
UID:206@svehast.se
DTSTART;TZID=Europe/Stockholm;VALUE=DATE:20240915
DTEND;TZID=Europe/Stockholm;VALUE=DATE:20240916
DTSTAMP:20240126T085306Z
URL:https://svehast.se/kalender/sommarpremiering-norra-ljunga-3/
SUMMARY:Sommarpremiering Norra Ljunga
DESCRIPTION:Sommarpremiering anordnas i Norra Ljunga.\nKatalog över anmäl
 da hästar och annan viktig information kommer att publiceras här ca 1\,5
  vecka innan visningsdagen: https://svehast.se/bedomningar/sommarpremieri
 ng/kataloger/
ATTACH;FMTTYPE=image/jpeg:https://svehast.se/wp-content/uploads/2023/05/PI
 CT0952_splogga.jpg
CATEGORIES:Sommarpremiering
END:VEVENT
BEGIN:VTIMEZONE
TZID:Europe/Stockholm
X-LIC-LOCATION:Europe/Stockholm
BEGIN:DAYLIGHT
DTSTART:20240331T030000
TZOFFSETFROM:+0100
TZOFFSETTO:+0200
TZNAME:CEST
END:DAYLIGHT
END:VTIMEZONE
END:VCALENDAR