BEGIN:VCALENDAR
VERSION:2.0
PRODID:-//wp-events-plugin.com//7.2.3.1//EN
TZID:Europe/Stockholm
X-WR-TIMEZONE:Europe/Stockholm
BEGIN:VEVENT
UID:1@svehast.se
DTSTART;TZID=Europe/Stockholm:20170121T090000
DTEND;TZID=Europe/Stockholm:20170122T170000
DTSTAMP:20170106T110308Z
URL:https://svehast.se/kalender/ungdomskonferens/
SUMMARY:Ungdomskonferens
DESCRIPTION:Den 21-22 januari har vi bokat in en ungdomsträff i Skara. All
 a föreningar ombeds skicka minst 1 representant från er förening (rekom
 menderad ålder mellan 16-26år). Sista anmälningsdatum är den 9 januari
 .\n\nPRELIMINÄRT PROGRAM:\nLÖRDAG Kl. 10-17\,00\nWorkshops\, föreläsni
 ngar\, praktiskt arbete kring föreningarnas egna önskemål och idéer om
  Ungdomsprojektet 2017.\n18\,00 Gemensam middag med aktiviteter\n\nSÖNDAG
  Kl. 09-15\,00\nFöreningsteknik och styrelsearbete med bla SHs ordförand
 e Kåre Gustafson.\n\nVälj själva om ni önskar sända deltagare till en
  eller två dagar\, söndagen viger vi till dem som är intresserade eller
  vill lära sig mer om styrelsearbete i föreningar och om hur unga kan p
 åverka!\nFör att kunna beräkna preliminärt antal vid bokningar av mat 
 och boende ser vi gärna att ni meddelar oss senast den 22/12 hur många d
 eltagare ni planerar att skicka från er förening.\n\nMåndagen den 9 jan
 uari är sen sista datum att anmäla sig!\n\nRekommenderad ålder är mell
 an 16-26 och SHs ungdomsprojekt 2017 bekostar material\, kost och logi und
 er helgen för era representanter.\n\nFrågor? Kontakta Petra 0511-672 31\
 , petra@dev.svehast.se\nVarmt välkommen med din anmälan
CATEGORIES:Konferens
LOCATION:Forskningshuset SLU\, Gråbrödragatan 19\, Skara\, 532 31\, Sveri
 ge
GEO:58.3902608;13.435682499999984
X-APPLE-STRUCTURED-LOCATION;VALUE=URI;X-ADDRESS=Gråbrödragatan 19\, Skara
 \, 532 31\, Sverige;X-APPLE-RADIUS=100;X-TITLE=Forskningshuset SLU:geo:58.
 3902608,13.435682499999984
END:VEVENT
BEGIN:VTIMEZONE
TZID:Europe/Stockholm
X-LIC-LOCATION:Europe/Stockholm
BEGIN:STANDARD
DTSTART:20161030T020000
TZOFFSETFROM:+0200
TZOFFSETTO:+0100
TZNAME:CET
END:STANDARD
END:VTIMEZONE
END:VCALENDAR